BEGIN:VCALENDAR
VERSION:2.0
PRODID:-//jEvents 2.0 for Joomla//EN
CALSCALE:GREGORIAN
METHOD:PUBLISH
BEGIN:VTIMEZONE
TZID:Europe/Lisbon
END:VTIMEZONE
BEGIN:VEVENT
UID:8abf1db4cc8417d0ddb041b3b17246c9
CATEGORIES:Atuações
CREATED:20231022T103021
SUMMARY:XVI Feira da Castanha, do Mel e do Artesanato
LOCATION:Coentral
DESCRIPTION:Promovida pela União de Freguesias de Castanheira de Pera e Coentral, reali
 za-se nos próximos dias 28 e 29 de outubro de 2023 a XVI Feira da Castanha,
  do Mel e Artesanato.\nO Rancho Folclórico Neveiros do Coentral vai estar p
 resente no dia 29.\nA Feira contará ainda com a animação proporcionada por:
 \n\n - Fragas e Giestas - Cavaquinhos do Coentral\n - Espetáculo de acordeã
 o por José Cláudio e Catarina Brilha\n - Tiago Silva\n - Gaiteiro Migalhó\n
  - Os grupos de folclore "Os Serranos da Cercicaper" e  da Casa do Povo de 
 Arões\n - Fado humorista com Nani Nadais
X-ALT-DESC;FMTTYPE=text/html:<p>Promovida pela União de Freguesias de Castanheira de Pera e Coentral, re
 aliza-se nos próximos dias 28 e 29 de outubro de 2023 a XVI Feira da Castan
 ha, do Mel e Artesanato.</p><p>O Rancho Folclórico Neveiros do Coentral vai
  estar presente no dia 29.</p><p>A Feira contará ainda com a animação propo
 rcionada por:</p><ul><li>Fragas e Giestas - Cavaquinhos do Coentral</li><li
 >Espetáculo de acordeão por José Cláudio e Catarina Brilha</li><li>Tiago Si
 lva</li><li>Gaiteiro Migalhó</li><li>Os grupos de folclore "Os Serranos da 
 Cercicaper" e  da Casa do Povo de Arões</li><li>Fado humorista com Nani Nad
 ais</li></ul>
DTSTAMP:20260421T081225
DTSTART;TZID=Europe/Lisbon;VALUE=DATE:20231028
DTEND;TZID=Europe/Lisbon;VALUE=DATE:20231030
SEQUENCE:0
TRANSP:OPAQUE
END:VEVENT
END:VCALENDAR