BEGIN:VCALENDAR
VERSION:2.0
PRODID:-//jEvents 2.0 for Joomla//EN
CALSCALE:GREGORIAN
METHOD:PUBLISH
BEGIN:VTIMEZONE
TZID:Europe/Lisbon
END:VTIMEZONE
BEGIN:VEVENT
UID:b0bd92be897b2aa7ec3a3800501921a7
CATEGORIES:Ensaios
CREATED:20230924T200700
SUMMARY:Ensaio do RF Neveiros do Coentral
LOCATION:Casa do Concelho de Castanheira de Pera
DESCRIPTION:<p>Os ensaios do rancho realizam-se com periodicidade quinzenal, ou um a ca
 da três semanas, aos sábados ou domingos, ou em função da disponibilidade d
 a maioria dos elementos ativos.</p><p>É um momento divertido e descontraído
 , de aprendizagem e partilha de saberes.</p>
DTSTAMP:20260421T101024
DTSTART;TZID=Europe/Lisbon:20231022T170000
SEQUENCE:0
TRANSP:OPAQUE
END:VEVENT
END:VCALENDAR