BEGIN:VCALENDAR
VERSION:2.0
PRODID:-//jEvents 2.0 for Joomla//EN
CALSCALE:GREGORIAN
METHOD:PUBLISH
BEGIN:VTIMEZONE
TZID:Europe/Lisbon
END:VTIMEZONE
BEGIN:VEVENT
UID:00b54353dae8580579307b08f476396d
CATEGORIES:Ensaios
CREATED:20230326T213536
SUMMARY:Ensaio do RF Neveiros do Coentral
LOCATION:Casa do Concelho de Castanheira de Pera
DESCRIPTION:Os ensaios do rancho realizam-se com periodicidade quinzenal, ou um a cada 
 três semanas, aos sábados ou domingos, ou em função da disponibilidade da m
 aioria dos elementos ativos.\nÉ um momento divertido e descontraído, de apr
 endizagem e partilha de saberes.\n
X-ALT-DESC;FMTTYPE=text/html:<p>Os ensaios do rancho realizam-se com periodicidade quinzenal, ou um a ca
 da três semanas, aos sábados ou domingos, ou em função da disponibilidade d
 a maioria dos elementos ativos.</p><p>É um momento divertido e descontraído
 , de aprendizagem e partilha de saberes.</p>
DTSTAMP:20260421T004247
DTSTART;TZID=Europe/Lisbon:20230416T163000
SEQUENCE:0
TRANSP:OPAQUE
END:VEVENT
END:VCALENDAR