BEGIN:VCALENDAR
VERSION:2.0
PRODID:-//jEvents 2.0 for Joomla//EN
CALSCALE:GREGORIAN
METHOD:PUBLISH
BEGIN:VTIMEZONE
TZID:Europe/Lisbon
END:VTIMEZONE
BEGIN:VEVENT
UID:f1e520e354395df1186780c2baf29a03
CATEGORIES:Ensaios
CREATED:20230210T225627
SUMMARY:Ensaio do RF Neveiros do Coentral
LOCATION:Casa do Concelho de Castanheira de Pera
DESCRIPTION:<p>Os ensaios do rancho realizam-se com periodicidade quinzenal, ou um a ca
 da três semanas, aos sábados ou domingos, ou em função da disponibilidade d
 a maioria dos elementos ativos.</p><p>É um momento divertido e descontraído
 , de aprendizagem e partilha de saberes.</p>
DTSTAMP:20260421T112307
DTSTART;TZID=Europe/Lisbon:20230211T160000
SEQUENCE:0
TRANSP:OPAQUE
END:VEVENT
END:VCALENDAR